BEGIN:VCALENDAR
BEGIN:VEVENT
CREATED:20250101T195444Z
LAST-MODIFIED:20250327T163218Z
DTSTART:20250401T164500Z
DTEND:20250401T194500Z
DTSTAMP:20250101T195444Z
SEQUENCE:0
TRANSP:OPAQUE
SUMMARY:Novizen, Hockey-Training
LOCATION:Oberrüti
RECURRENCE-ID:20250401T184500Z
UID:00024098-0000-0000-0000-000000000000
END:VEVENT
BEGIN:VEVENT
CREATED:20250327T163303Z
LAST-MODIFIED:20250327T163303Z
DTSTART:20250401T180000Z
DTEND:20250401T210000Z
DTSTAMP:20250327T163303Z
SEQUENCE:0
TRANSP:OPAQUE
SUMMARY:Elite, Hockey-Training
LOCATION:Oberrüti
RECURRENCE-ID:20250401T200000Z
UID:0002435c-0000-0000-0000-000000000000
END:VEVENT
BEGIN:VEVENT
CREATED:20250101T195407Z
LAST-MODIFIED:20250101T195407Z
DTSTART:20250402T163000Z
DTEND:20250402T193000Z
DTSTAMP:20250101T195407Z
SEQUENCE:0
TRANSP:OPAQUE
SUMMARY:Mini, Hockey-Training
LOCATION:Hartplatz Oberrüti
RECURRENCE-ID:20250402T183000Z
UID:00024070-0000-0000-0000-000000000000
END:VEVENT
BEGIN:VEVENT
CREATED:20250316T190338Z
LAST-MODIFIED:20250316T190339Z
DTSTART:20250402T164000Z
DTEND:20250402T194000Z
DTSTAMP:20250316T190338Z
SEQUENCE:0
TRANSP:OPAQUE
SUMMARY:1. Mannschaft, Athletiktraining
LOCATION:Turnhalle Ammannsmatt
RECURRENCE-ID:20250402T184000Z
UID:0002427d-0000-0000-0000-000000000000
END:VEVENT
BEGIN:VEVENT
CREATED:20250101T195734Z
LAST-MODIFIED:20250327T163411Z
DTSTART:20250402T180000Z
DTEND:20250402T210000Z
DTSTAMP:20250101T195734Z
SEQUENCE:0
TRANSP:OPAQUE
SUMMARY:Senioren, Unihockey
LOCATION:Turnhalle Oberrüti
RECURRENCE-ID:20250402T200000Z
UID:0002413a-0000-0000-0000-000000000000
END:VEVENT
BEGIN:VEVENT
CREATED:20250101T195520Z
LAST-MODIFIED:20250101T195520Z
DTSTART:20250403T164500Z
DTEND:20250403T194500Z
DTSTAMP:20250101T195520Z
SEQUENCE:0
TRANSP:OPAQUE
SUMMARY:Novizen, Hockey-Training
LOCATION:Hartplatz Oberrüti
RECURRENCE-ID:20250403T184500Z
UID:000240c0-0000-0000-0000-000000000000
END:VEVENT
BEGIN:VEVENT
CREATED:20250101T195640Z
LAST-MODIFIED:20250327T163451Z
DTSTART:20250403T180000Z
DTEND:20250403T210000Z
DTSTAMP:20250101T195640Z
SEQUENCE:0
TRANSP:OPAQUE
SUMMARY:Elite, Hockey-Training
LOCATION:Hartplatz Oberrüti
RECURRENCE-ID:20250403T200000Z
UID:00024107-0000-0000-0000-000000000000
END:VEVENT
BEGIN:VEVENT
CREATED:20250101T195211Z
LAST-MODIFIED:20250101T195212Z
DTSTART:20250404T144500Z
DTEND:20250404T174500Z
DTSTAMP:20250101T195211Z
SEQUENCE:0
TRANSP:OPAQUE
SUMMARY:Hockeyschule, Hockey-Training
LOCATION:Hartplatz Oberrüti
RECURRENCE-ID:20250404T164500Z
UID:0002400e-0000-0000-0000-000000000000
END:VEVENT
BEGIN:VEVENT
CREATED:20250101T195242Z
LAST-MODIFIED:20250101T195242Z
DTSTART:20250404T154500Z
DTEND:20250404T184500Z
DTSTAMP:20250101T195242Z
SEQUENCE:0
TRANSP:OPAQUE
SUMMARY:Moskito, Hockey-Training
LOCATION:Hartplatz Oberrüti
RECURRENCE-ID:20250404T174500Z
UID:0002403a-0000-0000-0000-000000000000
END:VEVENT
BEGIN:VEVENT
CREATED:20250101T195321Z
LAST-MODIFIED:20250101T195321Z
DTSTART:20250404T170000Z
DTEND:20250404T200000Z
DTSTAMP:20250101T195321Z
SEQUENCE:0
TRANSP:OPAQUE
SUMMARY:Mini, Hockey-Training
LOCATION:Hartplatz Oberrüti
RECURRENCE-ID:20250404T190000Z
UID:00024056-0000-0000-0000-000000000000
END:VEVENT
BEGIN:VEVENT
CREATED:20250323T163307Z
LAST-MODIFIED:20250323T163307Z
DTSTART:20250405T103000Z
DTEND:20250405T133000Z
DTSTAMP:20250323T163307Z
SEQUENCE:0
TRANSP:OPAQUE
SUMMARY:Novizen, Meisterschaft vs. IHC Wil Eagles
LOCATION:Wil
RECURRENCE-ID:20250405T123000Z
UID:00024314-0000-0000-0000-000000000000
END:VEVENT
BEGIN:VEVENT
CREATED:20250323T163308Z
LAST-MODIFIED:20250323T163309Z
DTSTART:20250405T143000Z
DTEND:20250405T173000Z
DTSTAMP:20250323T163308Z
SEQUENCE:0
TRANSP:OPAQUE
SUMMARY:Senioren, Meisterschaft vs. IHC Wil Eagles II
LOCATION:Wil
RECURRENCE-ID:20250405T163000Z
UID:00024316-0000-0000-0000-000000000000
END:VEVENT
BEGIN:VEVENT
CREATED:20250323T163310Z
LAST-MODIFIED:20250323T163310Z
DTSTART:20250405T160000Z
DTEND:20250405T190000Z
DTSTAMP:20250323T163310Z
SEQUENCE:0
TRANSP:OPAQUE
SUMMARY:2. Mannschaft, Meisterschaft vs. ihcSF Linth II
LOCATION:Kaltbrunn
RECURRENCE-ID:20250405T180000Z
UID:00024317-0000-0000-0000-000000000000
END:VEVENT
BEGIN:VEVENT
CREATED:20250323T163311Z
LAST-MODIFIED:20250323T163311Z
DTSTART:20250405T163000Z
DTEND:20250405T193000Z
DTSTAMP:20250323T163311Z
SEQUENCE:0
TRANSP:OPAQUE
SUMMARY:1. Mannschaft, Meisterschaft vs. IHC Wil Eagles I
LOCATION:Wil
RECURRENCE-ID:20250405T183000Z
UID:00024318-0000-0000-0000-000000000000
END:VEVENT
BEGIN:VEVENT
CREATED:20250323T163312Z
LAST-MODIFIED:20250323T163313Z
DTSTART:20250406T080000Z
DTEND:20250406T110000Z
DTSTAMP:20250323T163312Z
SEQUENCE:0
TRANSP:OPAQUE
SUMMARY:Elite, Meisterschaft vs. ihcSF Linth
LOCATION:Kaltbrunn
RECURRENCE-ID:20250406T100000Z
UID:00024319-0000-0000-0000-000000000000
END:VEVENT
BEGIN:VEVENT
CREATED:20250323T163314Z
LAST-MODIFIED:20250323T163314Z
DTSTART:20250406T100000Z
DTEND:20250406T130000Z
DTSTAMP:20250323T163314Z
SEQUENCE:0
TRANSP:OPAQUE
SUMMARY:Novizen, Meisterschaft vs. ihcSF Linth
LOCATION:Kaltbrunn
RECURRENCE-ID:20250406T120000Z
UID:0002431b-0000-0000-0000-000000000000
END:VEVENT
BEGIN:VEVENT
CREATED:20250323T163315Z
LAST-MODIFIED:20250323T163316Z
DTSTART:20250406T123000Z
DTEND:20250406T153000Z
DTSTAMP:20250323T163315Z
SEQUENCE:0
TRANSP:OPAQUE
SUMMARY:3. Mannschaft, Meisterschaft vs. IHC Cobras Escholzmatt II
LOCATION:Worb
RECURRENCE-ID:20250406T143000Z
UID:0002431c-0000-0000-0000-000000000000
END:VEVENT
BEGIN:VEVENT
CREATED:20250323T163317Z
LAST-MODIFIED:20250323T163317Z
DTSTART:20250406T143000Z
DTEND:20250406T173000Z
DTSTAMP:20250323T163317Z
SEQUENCE:0
TRANSP:OPAQUE
SUMMARY:2. Mannschaft, Meisterschaft vs. IHC Cobras Escholzmatt I
LOCATION:Worb
RECURRENCE-ID:20250406T163000Z
UID:0002431d-0000-0000-0000-000000000000
END:VEVENT
BEGIN:VEVENT
CREATED:20250323T163318Z
LAST-MODIFIED:20250323T163318Z
DTSTART:20250406T180000Z
DTEND:20250406T210000Z
DTSTAMP:20250323T163318Z
SEQUENCE:0
TRANSP:OPAQUE
SUMMARY:1. Mannschaft, Meisterschaft vs. ihcSF Linth I
LOCATION:Kaltbrunn
RECURRENCE-ID:20250406T200000Z
UID:0002431e-0000-0000-0000-000000000000
END:VEVENT
BEGIN:VEVENT
CREATED:20250101T195603Z
LAST-MODIFIED:20250101T195604Z
DTSTART:20250407T171500Z
DTEND:20250407T201500Z
DTSTAMP:20250101T195603Z
SEQUENCE:0
TRANSP:OPAQUE
SUMMARY:Elite, Hockey-Training
LOCATION:Sursee
RECURRENCE-ID:20250407T191500Z
UID:000240ea-0000-0000-0000-000000000000
END:VEVENT
BEGIN:VEVENT
CREATED:20240928T104657Z
LAST-MODIFIED:20240928T104657Z
DTSTART:20250407T180000Z
DTEND:20250407T210000Z
DTSTAMP:20240928T104657Z
SEQUENCE:0
TRANSP:OPAQUE
SUMMARY:1. Mannschaft, Athletiktraining
LOCATION:Turnhalle Ammannsmatt
RECURRENCE-ID:20250407T200000Z
UID:00023d7b-0000-0000-0000-000000000000
END:VEVENT
BEGIN:VEVENT
CREATED:20250101T195445Z
LAST-MODIFIED:20250101T195446Z
DTSTART:20250408T164500Z
DTEND:20250408T194500Z
DTSTAMP:20250101T195445Z
SEQUENCE:0
TRANSP:OPAQUE
SUMMARY:Novizen, Hockey-Training
LOCATION:Hochdorf
RECURRENCE-ID:20250408T184500Z
UID:0002409a-0000-0000-0000-000000000000
END:VEVENT
BEGIN:VEVENT
CREATED:20250101T195408Z
LAST-MODIFIED:20250101T195408Z
DTSTART:20250409T163000Z
DTEND:20250409T193000Z
DTSTAMP:20250101T195408Z
SEQUENCE:0
TRANSP:OPAQUE
SUMMARY:Mini, Hockey-Training
LOCATION:Hartplatz Oberrüti
RECURRENCE-ID:20250409T183000Z
UID:00024072-0000-0000-0000-000000000000
END:VEVENT
BEGIN:VEVENT
CREATED:20250316T190340Z
LAST-MODIFIED:20250407T073551Z
DTSTART:20250409T180000Z
DTEND:20250409T210000Z
DTSTAMP:20250316T190340Z
SEQUENCE:0
TRANSP:OPAQUE
SUMMARY:1. Mannschaft, Hockeytraining
LOCATION:Iceline Hochdorf
RECURRENCE-ID:20250409T200000Z
UID:0002427e-0000-0000-0000-000000000000
END:VEVENT
BEGIN:VEVENT
CREATED:20250101T195736Z
LAST-MODIFIED:20250101T195737Z
DTSTART:20250409T191500Z
DTEND:20250409T221500Z
DTSTAMP:20250101T195736Z
SEQUENCE:0
TRANSP:OPAQUE
SUMMARY:Senioren, Hockey-Training
LOCATION:Hochdorf
RECURRENCE-ID:20250409T211500Z
UID:0002413b-0000-0000-0000-000000000000
END:VEVENT
BEGIN:VEVENT
CREATED:20250101T195521Z
LAST-MODIFIED:20250101T195522Z
DTSTART:20250410T164500Z
DTEND:20250410T194500Z
DTSTAMP:20250101T195521Z
SEQUENCE:0
TRANSP:OPAQUE
SUMMARY:Novizen, Hockey-Training
LOCATION:Hartplatz Oberrüti
RECURRENCE-ID:20250410T184500Z
UID:000240c2-0000-0000-0000-000000000000
END:VEVENT
BEGIN:VEVENT
CREATED:20250101T195640Z
LAST-MODIFIED:20250101T195641Z
DTSTART:20250410T180000Z
DTEND:20250410T210000Z
DTSTAMP:20250101T195640Z
SEQUENCE:0
TRANSP:OPAQUE
SUMMARY:Elite, Hockey-Training
LOCATION:Hochdorf
RECURRENCE-ID:20250410T200000Z
UID:00024108-0000-0000-0000-000000000000
END:VEVENT
BEGIN:VEVENT
CREATED:20250101T195243Z
LAST-MODIFIED:20250101T195243Z
DTSTART:20250411T154500Z
DTEND:20250411T184500Z
DTSTAMP:20250101T195243Z
SEQUENCE:0
TRANSP:OPAQUE
SUMMARY:Moskito, Hockey-Training
LOCATION:Hartplatz Oberrüti
RECURRENCE-ID:20250411T174500Z
UID:0002403b-0000-0000-0000-000000000000
END:VEVENT
BEGIN:VEVENT
CREATED:20250101T195322Z
LAST-MODIFIED:20250101T195322Z
DTSTART:20250411T170000Z
DTEND:20250411T200000Z
DTSTAMP:20250101T195322Z
SEQUENCE:0
TRANSP:OPAQUE
SUMMARY:Mini, Hockey-Training
LOCATION:Hartplatz Oberrüti
RECURRENCE-ID:20250411T190000Z
UID:00024057-0000-0000-0000-000000000000
END:VEVENT
BEGIN:VEVENT
CREATED:20250324T191355Z
LAST-MODIFIED:20250324T191355Z
DTSTART;VALUE=DATE:20250412
DTSTAMP:20250324T191355Z
SEQUENCE:0
TRANSP:OPAQUE
SUMMARY:Moskito, SIHV Mini-Kids-Turnier
LOCATION:Wollerau
RECURRENCE-ID:20250412T000000Z
UID:0002434f-0000-0000-0000-000000000000
END:VEVENT
BEGIN:VEVENT
CREATED:20250323T163218Z
LAST-MODIFIED:20250323T163218Z
DTSTART:20250412T100000Z
DTEND:20250412T130000Z
DTSTAMP:20250323T163218Z
SEQUENCE:0
TRANSP:OPAQUE
SUMMARY:Elite, Meisterschaft vs. ihcSF Linth
LOCATION:Hochdorf
RECURRENCE-ID:20250412T120000Z
UID:000242e0-0000-0000-0000-000000000000
END:VEVENT
BEGIN:VEVENT
CREATED:20250323T163219Z
LAST-MODIFIED:20250323T163219Z
DTSTART:20250412T120000Z
DTEND:20250412T150000Z
DTSTAMP:20250323T163219Z
SEQUENCE:0
TRANSP:OPAQUE
SUMMARY:3. Mannschaft, Meisterschaft vs. Rolling Rockets
LOCATION:Hochdorf
RECURRENCE-ID:20250412T140000Z
UID:000242e2-0000-0000-0000-000000000000
END:VEVENT
BEGIN:VEVENT
CREATED:20250323T163220Z
LAST-MODIFIED:20250323T163220Z
DTSTART:20250412T140000Z
DTEND:20250412T170000Z
DTSTAMP:20250323T163220Z
SEQUENCE:0
TRANSP:OPAQUE
SUMMARY:Senioren, Meisterschaft vs. IHC Thurgau I
LOCATION:Hochdorf
RECURRENCE-ID:20250412T160000Z
UID:000242e3-0000-0000-0000-000000000000
END:VEVENT
BEGIN:VEVENT
CREATED:20250323T163221Z
LAST-MODIFIED:20250323T163221Z
DTSTART:20250412T160000Z
DTEND:20250412T190000Z
DTSTAMP:20250323T163221Z
SEQUENCE:0
TRANSP:OPAQUE
SUMMARY:2. Mannschaft, Meisterschaft vs. SC Seuzach Dragons I
LOCATION:Hochdorf
RECURRENCE-ID:20250412T180000Z
UID:000242e4-0000-0000-0000-000000000000
END:VEVENT
BEGIN:VEVENT
CREATED:20250323T163222Z
LAST-MODIFIED:20250323T163222Z
DTSTART:20250412T180000Z
DTEND:20250412T210000Z
DTSTAMP:20250323T163222Z
SEQUENCE:0
TRANSP:OPAQUE
SUMMARY:1. Mannschaft, Meisterschaft vs. Labeda Rockets
LOCATION:Hochdorf
RECURRENCE-ID:20250412T200000Z
UID:000242e5-0000-0000-0000-000000000000
END:VEVENT
BEGIN:VEVENT
CREATED:20250323T163319Z
LAST-MODIFIED:20250323T163320Z
DTSTART:20250413T073000Z
DTEND:20250413T103000Z
DTSTAMP:20250323T163319Z
SEQUENCE:0
TRANSP:OPAQUE
SUMMARY:Mini, Meisterschaft vs. ihcSF Linth
LOCATION:Kaltbrunn
RECURRENCE-ID:20250413T093000Z
UID:0002431f-0000-0000-0000-000000000000
END:VEVENT
BEGIN:VEVENT
CREATED:20250323T163223Z
LAST-MODIFIED:20250323T163223Z
DTSTART:20250413T080000Z
DTEND:20250413T110000Z
DTSTAMP:20250323T163223Z
SEQUENCE:0
TRANSP:OPAQUE
SUMMARY:Novizen, Meisterschaft vs. IHC Wil Eagles
LOCATION:Hochdorf
RECURRENCE-ID:20250413T100000Z
UID:000242e6-0000-0000-0000-000000000000
END:VEVENT
BEGIN:VEVENT
CREATED:20250323T163224Z
LAST-MODIFIED:20250323T163225Z
DTSTART:20250413T081500Z
DTEND:20250413T111500Z
DTSTAMP:20250323T163224Z
SEQUENCE:0
TRANSP:OPAQUE
SUMMARY:Mini, Meisterschaft vs. IHC Wil Eagles
LOCATION:Kaltbrunn
RECURRENCE-ID:20250413T101500Z
UID:000242e8-0000-0000-0000-000000000000
END:VEVENT
BEGIN:VEVENT
CREATED:20250323T163225Z
LAST-MODIFIED:20250323T163226Z
DTSTART:20250413T100000Z
DTEND:20250413T130000Z
DTSTAMP:20250323T163225Z
SEQUENCE:0
TRANSP:OPAQUE
SUMMARY:3. Mannschaft, Meisterschaft vs. IHC Grizzlys Hünenberg II
LOCATION:Hochdorf
RECURRENCE-ID:20250413T120000Z
UID:000242e9-0000-0000-0000-000000000000
END:VEVENT
BEGIN:VEVENT
CREATED:20250323T163227Z
LAST-MODIFIED:20250323T163227Z
DTSTART:20250413T120000Z
DTEND:20250413T150000Z
DTSTAMP:20250323T163227Z
SEQUENCE:0
TRANSP:OPAQUE
SUMMARY:Senioren, Meisterschaft vs. IHC Stansstad
LOCATION:Hochdorf
RECURRENCE-ID:20250413T140000Z
UID:000242ea-0000-0000-0000-000000000000
END:VEVENT
BEGIN:VEVENT
CREATED:20250323T163228Z
LAST-MODIFIED:20250323T163228Z
DTSTART:20250413T140000Z
DTEND:20250413T170000Z
DTSTAMP:20250323T163228Z
SEQUENCE:0
TRANSP:OPAQUE
SUMMARY:2. Mannschaft, Meisterschaft vs. IHC Benchwormers
LOCATION:Hochdorf
RECURRENCE-ID:20250413T160000Z
UID:000242eb-0000-0000-0000-000000000000
END:VEVENT
BEGIN:VEVENT
CREATED:20250323T163229Z
LAST-MODIFIED:20250323T163229Z
DTSTART:20250413T160000Z
DTEND:20250413T190000Z
DTSTAMP:20250323T163229Z
SEQUENCE:0
TRANSP:OPAQUE
SUMMARY:1. Mannschaft, Meisterschaft vs. IHC Grizzlys Hünenberg I
LOCATION:Hochdorf
RECURRENCE-ID:20250413T180000Z
UID:000242ec-0000-0000-0000-000000000000
END:VEVENT
BEGIN:VEVENT
CREATED:20250101T195447Z
LAST-MODIFIED:20250101T195447Z
DTSTART:20250415T164500Z
DTEND:20250415T194500Z
DTSTAMP:20250101T195447Z
SEQUENCE:0
TRANSP:OPAQUE
SUMMARY:Novizen, Hockey-Training
LOCATION:Hochdorf
RECURRENCE-ID:20250415T184500Z
UID:0002409c-0000-0000-0000-000000000000
END:VEVENT
BEGIN:VEVENT
CREATED:20250101T195409Z
LAST-MODIFIED:20250101T195410Z
DTSTART:20250416T163000Z
DTEND:20250416T193000Z
DTSTAMP:20250101T195409Z
SEQUENCE:0
TRANSP:OPAQUE
SUMMARY:Mini, Hockey-Training
LOCATION:Hartplatz Oberrüti
RECURRENCE-ID:20250416T183000Z
UID:00024074-0000-0000-0000-000000000000
END:VEVENT
BEGIN:VEVENT
CREATED:20250316T190341Z
LAST-MODIFIED:20250316T190342Z
DTSTART:20250416T180000Z
DTEND:20250416T210000Z
DTSTAMP:20250316T190341Z
SEQUENCE:0
TRANSP:OPAQUE
SUMMARY:1. Mannschaft, Hockeytraining
LOCATION:Iceline Hochdorf
RECURRENCE-ID:20250416T200000Z
UID:0002427f-0000-0000-0000-000000000000
END:VEVENT
BEGIN:VEVENT
CREATED:20250101T195738Z
LAST-MODIFIED:20250101T195738Z
DTSTART:20250416T191500Z
DTEND:20250416T221500Z
DTSTAMP:20250101T195738Z
SEQUENCE:0
TRANSP:OPAQUE
SUMMARY:Senioren, Hockey-Training
LOCATION:Hochdorf
RECURRENCE-ID:20250416T211500Z
UID:0002413c-0000-0000-0000-000000000000
END:VEVENT
BEGIN:VEVENT
CREATED:20250101T195523Z
LAST-MODIFIED:20250101T195523Z
DTSTART:20250417T164500Z
DTEND:20250417T194500Z
DTSTAMP:20250101T195523Z
SEQUENCE:0
TRANSP:OPAQUE
SUMMARY:Novizen, Hockey-Training
LOCATION:Hartplatz Oberrüti
RECURRENCE-ID:20250417T184500Z
UID:000240c4-0000-0000-0000-000000000000
END:VEVENT
BEGIN:VEVENT
CREATED:20250101T195642Z
LAST-MODIFIED:20250313T112847Z
DTSTART:20250417T170000Z
DTEND:20250417T200000Z
DTSTAMP:20250101T195642Z
SEQUENCE:0
TRANSP:OPAQUE
SUMMARY:Elite, Trainingslager
LOCATION:Effretikon
RECURRENCE-ID:20250417T190000Z
UID:00024109-0000-0000-0000-000000000000
END:VEVENT
BEGIN:VEVENT
CREATED:20250313T113336Z
LAST-MODIFIED:20250313T113336Z
DTSTART:20250417T170000Z
DTEND:20250417T200000Z
DTSTAMP:20250313T113336Z
SEQUENCE:0
TRANSP:OPAQUE
SUMMARY:1. Mannschaft, Trainingslager
LOCATION:Effretikon
RECURRENCE-ID:20250417T190000Z
UID:000241fc-0000-0000-0000-000000000000
END:VEVENT
BEGIN:VEVENT
CREATED:20250313T113415Z
LAST-MODIFIED:20250313T113415Z
DTSTART:20250417T170000Z
DTEND:20250417T200000Z
DTSTAMP:20250313T113415Z
SEQUENCE:0
TRANSP:OPAQUE
SUMMARY:2. Mannschaft, Trainingslager
LOCATION:Effretikon
RECURRENCE-ID:20250417T190000Z
UID:000241fd-0000-0000-0000-000000000000
END:VEVENT
BEGIN:VEVENT
CREATED:20250313T113011Z
LAST-MODIFIED:20250313T113011Z
DTSTART;VALUE=DATE:20250418
DTSTAMP:20250313T113011Z
SEQUENCE:0
TRANSP:OPAQUE
SUMMARY:Elite, Trainingslager
LOCATION:Effretikon
RECURRENCE-ID:20250418T000000Z
UID:000241f7-0000-0000-0000-000000000000
END:VEVENT
BEGIN:VEVENT
CREATED:20250313T113129Z
LAST-MODIFIED:20250313T113129Z
DTSTART;VALUE=DATE:20250418
DTSTAMP:20250313T113129Z
SEQUENCE:0
TRANSP:OPAQUE
SUMMARY:1. Mannschaft, Trainingslager
LOCATION:Effretikon
RECURRENCE-ID:20250418T000000Z
UID:000241f8-0000-0000-0000-000000000000
END:VEVENT
BEGIN:VEVENT
CREATED:20250313T113200Z
LAST-MODIFIED:20250313T113200Z
DTSTART;VALUE=DATE:20250418
DTSTAMP:20250313T113200Z
SEQUENCE:0
TRANSP:OPAQUE
SUMMARY:2. Mannschaft, Trainingslager
LOCATION:Effretikon
RECURRENCE-ID:20250418T000000Z
UID:000241f9-0000-0000-0000-000000000000
END:VEVENT
BEGIN:VEVENT
CREATED:20250313T113231Z
LAST-MODIFIED:20250313T113231Z
DTSTART;VALUE=DATE:20250418
DTSTAMP:20250313T113231Z
SEQUENCE:0
TRANSP:OPAQUE
SUMMARY:3. Mannschaft, Trainingslager
LOCATION:Effretikon
RECURRENCE-ID:20250418T000000Z
UID:000241fa-0000-0000-0000-000000000000
END:VEVENT
BEGIN:VEVENT
CREATED:20250313T113302Z
LAST-MODIFIED:20250313T113302Z
DTSTART;VALUE=DATE:20250418
DTSTAMP:20250313T113302Z
SEQUENCE:0
TRANSP:OPAQUE
SUMMARY:Senioren, Trainingslager
LOCATION:Effretikon
RECURRENCE-ID:20250418T000000Z
UID:000241fb-0000-0000-0000-000000000000
END:VEVENT
BEGIN:VEVENT
CREATED:20250313T113541Z
LAST-MODIFIED:20250313T113541Z
DTSTART;VALUE=DATE:20250419
DTSTAMP:20250313T113541Z
SEQUENCE:0
TRANSP:OPAQUE
SUMMARY:Elite, Trainingslager
LOCATION:Effretikon
RECURRENCE-ID:20250419T000000Z
UID:000241ff-0000-0000-0000-000000000000
END:VEVENT
BEGIN:VEVENT
CREATED:20250313T113611Z
LAST-MODIFIED:20250313T113611Z
DTSTART;VALUE=DATE:20250419
DTSTAMP:20250313T113611Z
SEQUENCE:0
TRANSP:OPAQUE
SUMMARY:1. Mannschaft, Trainingslager
LOCATION:Effretikon
RECURRENCE-ID:20250419T000000Z
UID:00024200-0000-0000-0000-000000000000
END:VEVENT
BEGIN:VEVENT
CREATED:20250313T113639Z
LAST-MODIFIED:20250313T113639Z
DTSTART;VALUE=DATE:20250419
DTSTAMP:20250313T113639Z
SEQUENCE:0
TRANSP:OPAQUE
SUMMARY:2. Mannschaft, Trainingslager
LOCATION:Effretikon
RECURRENCE-ID:20250419T000000Z
UID:00024201-0000-0000-0000-000000000000
END:VEVENT
BEGIN:VEVENT
CREATED:20250313T113717Z
LAST-MODIFIED:20250313T113717Z
DTSTART;VALUE=DATE:20250419
DTSTAMP:20250313T113717Z
SEQUENCE:0
TRANSP:OPAQUE
SUMMARY:3. Mannschaft, Trainingslager
LOCATION:Effretikon
RECURRENCE-ID:20250419T000000Z
UID:00024202-0000-0000-0000-000000000000
END:VEVENT
BEGIN:VEVENT
CREATED:20250313T113752Z
LAST-MODIFIED:20250313T113752Z
DTSTART;VALUE=DATE:20250419
DTSTAMP:20250313T113752Z
SEQUENCE:0
TRANSP:OPAQUE
SUMMARY:Senioren, Trainingslager
LOCATION:Effretikon
RECURRENCE-ID:20250419T000000Z
UID:00024203-0000-0000-0000-000000000000
END:VEVENT
BEGIN:VEVENT
CREATED:20250313T113855Z
LAST-MODIFIED:20250313T113855Z
DTSTART;VALUE=DATE:20250420
DTSTAMP:20250313T113855Z
SEQUENCE:0
TRANSP:OPAQUE
SUMMARY:Elite, Trainingslager
LOCATION:Effretikon
RECURRENCE-ID:20250420T000000Z
UID:00024205-0000-0000-0000-000000000000
END:VEVENT
BEGIN:VEVENT
CREATED:20250313T113924Z
LAST-MODIFIED:20250313T113924Z
DTSTART;VALUE=DATE:20250420
DTSTAMP:20250313T113924Z
SEQUENCE:0
TRANSP:OPAQUE
SUMMARY:1. Mannschaft, Trainingslager
LOCATION:Effretikon
RECURRENCE-ID:20250420T000000Z
UID:00024206-0000-0000-0000-000000000000
END:VEVENT
BEGIN:VEVENT
CREATED:20250313T113951Z
LAST-MODIFIED:20250313T113951Z
DTSTART;VALUE=DATE:20250420
DTSTAMP:20250313T113951Z
SEQUENCE:0
TRANSP:OPAQUE
SUMMARY:2. Mannschaft, Trainingslager
LOCATION:Effretikon
RECURRENCE-ID:20250420T000000Z
UID:00024207-0000-0000-0000-000000000000
END:VEVENT
BEGIN:VEVENT
CREATED:20250101T195449Z
LAST-MODIFIED:20250101T195449Z
DTSTART:20250422T164500Z
DTEND:20250422T194500Z
DTSTAMP:20250101T195449Z
SEQUENCE:0
TRANSP:OPAQUE
SUMMARY:Novizen, Hockey-Training
LOCATION:Hochdorf
RECURRENCE-ID:20250422T184500Z
UID:0002409e-0000-0000-0000-000000000000
END:VEVENT
BEGIN:VEVENT
CREATED:20250101T195411Z
LAST-MODIFIED:20250101T195411Z
DTSTART:20250423T163000Z
DTEND:20250423T193000Z
DTSTAMP:20250101T195411Z
SEQUENCE:0
TRANSP:OPAQUE
SUMMARY:Mini, Hockey-Training
LOCATION:Hartplatz Oberrüti
RECURRENCE-ID:20250423T183000Z
UID:00024076-0000-0000-0000-000000000000
END:VEVENT
BEGIN:VEVENT
CREATED:20250316T190343Z
LAST-MODIFIED:20250316T190343Z
DTSTART:20250423T180000Z
DTEND:20250423T210000Z
DTSTAMP:20250316T190343Z
SEQUENCE:0
TRANSP:OPAQUE
SUMMARY:1. Mannschaft, Hockeytraining
LOCATION:Iceline Hochdorf
RECURRENCE-ID:20250423T200000Z
UID:00024280-0000-0000-0000-000000000000
END:VEVENT
BEGIN:VEVENT
CREATED:20250101T195740Z
LAST-MODIFIED:20250101T195740Z
DTSTART:20250423T191500Z
DTEND:20250423T221500Z
DTSTAMP:20250101T195740Z
SEQUENCE:0
TRANSP:OPAQUE
SUMMARY:Senioren, Hockey-Training
LOCATION:Hochdorf
RECURRENCE-ID:20250423T211500Z
UID:0002413d-0000-0000-0000-000000000000
END:VEVENT
BEGIN:VEVENT
CREATED:20250313T112402Z
LAST-MODIFIED:20250313T112402Z
DTSTART;VALUE=DATE:20250424
DTSTAMP:20250313T112402Z
SEQUENCE:0
TRANSP:OPAQUE
SUMMARY:1. Mannschaft, EUROPEAN LEAGUE
LOCATION:Cittadella (ITA)
RECURRENCE-ID:20250424T000000Z
UID:000241f0-0000-0000-0000-000000000000
END:VEVENT
BEGIN:VEVENT
CREATED:20250101T195524Z
LAST-MODIFIED:20250101T195525Z
DTSTART:20250424T164500Z
DTEND:20250424T194500Z
DTSTAMP:20250101T195524Z
SEQUENCE:0
TRANSP:OPAQUE
SUMMARY:Novizen, Hockey-Training
LOCATION:Hartplatz Oberrüti
RECURRENCE-ID:20250424T184500Z
UID:000240c6-0000-0000-0000-000000000000
END:VEVENT
BEGIN:VEVENT
CREATED:20250101T195643Z
LAST-MODIFIED:20250101T195643Z
DTSTART:20250424T180000Z
DTEND:20250424T210000Z
DTSTAMP:20250101T195643Z
SEQUENCE:0
TRANSP:OPAQUE
SUMMARY:Elite, Hockey-Training
LOCATION:Hochdorf
RECURRENCE-ID:20250424T200000Z
UID:0002410a-0000-0000-0000-000000000000
END:VEVENT
BEGIN:VEVENT
CREATED:20250313T112443Z
LAST-MODIFIED:20250313T112443Z
DTSTART;VALUE=DATE:20250425
DTSTAMP:20250313T112443Z
SEQUENCE:0
TRANSP:OPAQUE
SUMMARY:1. Mannschaft, EUROPEAN LEAGUE
LOCATION:Cittadella (ITA)
RECURRENCE-ID:20250425T000000Z
UID:000241f1-0000-0000-0000-000000000000
END:VEVENT
BEGIN:VEVENT
CREATED:20250101T195213Z
LAST-MODIFIED:20250101T195213Z
DTSTART:20250425T144500Z
DTEND:20250425T174500Z
DTSTAMP:20250101T195213Z
SEQUENCE:0
TRANSP:OPAQUE
SUMMARY:Hockeyschule, Hockey-Training
LOCATION:Hartplatz Oberrüti
RECURRENCE-ID:20250425T164500Z
UID:00024010-0000-0000-0000-000000000000
END:VEVENT
BEGIN:VEVENT
CREATED:20250101T195247Z
LAST-MODIFIED:20250101T195247Z
DTSTART:20250425T154500Z
DTEND:20250425T184500Z
DTSTAMP:20250101T195247Z
SEQUENCE:0
TRANSP:OPAQUE
SUMMARY:Moskito, Hockey-Training
LOCATION:Hartplatz Oberrüti
RECURRENCE-ID:20250425T174500Z
UID:0002403f-0000-0000-0000-000000000000
END:VEVENT
BEGIN:VEVENT
CREATED:20250101T195325Z
LAST-MODIFIED:20250205T225112Z
DTSTART:20250425T173000Z
DTEND:20250425T203000Z
DTSTAMP:20250101T195325Z
SEQUENCE:0
TRANSP:OPAQUE
SUMMARY:Mini, SIHV Meisterschaftsspiel vs. Hurricanes Lenzburg
LOCATION:Lenzburg
RECURRENCE-ID:20250425T193000Z
UID:00024059-0000-0000-0000-000000000000
END:VEVENT
BEGIN:VEVENT
CREATED:20250313T112549Z
LAST-MODIFIED:20250313T112549Z
DTSTART;VALUE=DATE:20250426
DTSTAMP:20250313T112549Z
SEQUENCE:0
TRANSP:OPAQUE
SUMMARY:1. Mannschaft, EUROPEAN LEAGUE
LOCATION:Cittadella (ITA)
RECURRENCE-ID:20250426T000000Z
UID:000241f4-0000-0000-0000-000000000000
END:VEVENT
BEGIN:VEVENT
CREATED:20250323T163321Z
LAST-MODIFIED:20250323T163321Z
DTSTART:20250426T160000Z
DTEND:20250426T190000Z
DTSTAMP:20250323T163321Z
SEQUENCE:0
TRANSP:OPAQUE
SUMMARY:Senioren, Meisterschaft vs. IHC Stansstad
LOCATION:Sursee
RECURRENCE-ID:20250426T180000Z
UID:00024320-0000-0000-0000-000000000000
END:VEVENT
BEGIN:VEVENT
CREATED:20250323T163323Z
LAST-MODIFIED:20250323T163323Z
DTSTART:20250426T180000Z
DTEND:20250426T210000Z
DTSTAMP:20250323T163323Z
SEQUENCE:0
TRANSP:OPAQUE
SUMMARY:3. Mannschaft, Meisterschaft vs. IHC Uri
LOCATION:Sursee
RECURRENCE-ID:20250426T200000Z
UID:00024321-0000-0000-0000-000000000000
END:VEVENT
BEGIN:VEVENT
CREATED:20250313T112607Z
LAST-MODIFIED:20250313T112607Z
DTSTART;VALUE=DATE:20250427
DTSTAMP:20250313T112607Z
SEQUENCE:0
TRANSP:OPAQUE
SUMMARY:1. Mannschaft, EUROPEAN LEAGUE
LOCATION:Cittadella (ITA)
RECURRENCE-ID:20250427T000000Z
UID:000241f5-0000-0000-0000-000000000000
END:VEVENT
BEGIN:VEVENT
CREATED:20250323T163324Z
LAST-MODIFIED:20250323T163324Z
DTSTART:20250427T084500Z
DTEND:20250427T114500Z
DTSTAMP:20250323T163324Z
SEQUENCE:0
TRANSP:OPAQUE
SUMMARY:Moskito, Meisterschaft vs. ihcSF Linth
LOCATION:Wolfurt
RECURRENCE-ID:20250427T104500Z
UID:00024322-0000-0000-0000-000000000000
END:VEVENT
BEGIN:VEVENT
CREATED:20250323T163325Z
LAST-MODIFIED:20250323T163325Z
DTSTART:20250427T100000Z
DTEND:20250427T130000Z
DTSTAMP:20250323T163325Z
SEQUENCE:0
TRANSP:OPAQUE
SUMMARY:Novizen, Meisterschaft vs. IHC Grizzlys Hünenberg
LOCATION:Hochdorf
RECURRENCE-ID:20250427T120000Z
UID:00024323-0000-0000-0000-000000000000
END:VEVENT
BEGIN:VEVENT
CREATED:20250323T163327Z
LAST-MODIFIED:20250323T163328Z
DTSTART:20250427T101500Z
DTEND:20250427T131500Z
DTSTAMP:20250323T163327Z
SEQUENCE:0
TRANSP:OPAQUE
SUMMARY:Moskito, Meisterschaft vs. IHC Wil Eagles
LOCATION:Wolfurt
RECURRENCE-ID:20250427T121500Z
UID:00024325-0000-0000-0000-000000000000
END:VEVENT
BEGIN:VEVENT
CREATED:20250323T163328Z
LAST-MODIFIED:20250323T163329Z
DTSTART:20250427T114500Z
DTEND:20250427T144500Z
DTSTAMP:20250323T163328Z
SEQUENCE:0
TRANSP:OPAQUE
SUMMARY:Moskito, Meisterschaft vs. Raiffeisen IHC Wolfurt Walkers
LOCATION:Wolfurt
RECURRENCE-ID:20250427T134500Z
UID:00024326-0000-0000-0000-000000000000
END:VEVENT
BEGIN:VEVENT
CREATED:20250323T163330Z
LAST-MODIFIED:20250323T163330Z
DTSTART:20250427T140000Z
DTEND:20250427T170000Z
DTSTAMP:20250323T163330Z
SEQUENCE:0
TRANSP:OPAQUE
SUMMARY:3. Mannschaft, Meisterschaft vs. IHC March-Höfe STARS II
LOCATION:Kaltbrunn
RECURRENCE-ID:20250427T160000Z
UID:00024327-0000-0000-0000-000000000000
END:VEVENT
BEGIN:VEVENT
CREATED:20250422T210559Z
LAST-MODIFIED:20250422T210559Z
DTSTART:20250427T160000Z
DTEND:20250427T190000Z
DTSTAMP:20250422T210559Z
SEQUENCE:0
TRANSP:OPAQUE
SUMMARY:Senioren, Meisterschaft vs. IHC Thurgau I
LOCATION:Weinfelden
RECURRENCE-ID:20250427T180000Z
UID:00024388-0000-0000-0000-000000000000
END:VEVENT
BEGIN:VEVENT
CREATED:20250104T121550Z
LAST-MODIFIED:20250104T121550Z
DTSTART:20250428T171500Z
DTEND:20250428T201500Z
DTSTAMP:20250104T121550Z
SEQUENCE:0
TRANSP:OPAQUE
SUMMARY:Elite, Hockey-Training
LOCATION:Sursee
RECURRENCE-ID:20250428T191500Z
UID:0002415e-0000-0000-0000-000000000000
END:VEVENT
BEGIN:VEVENT
CREATED:20250316T190358Z
LAST-MODIFIED:20250316T190359Z
DTSTART:20250428T183000Z
DTEND:20250428T213000Z
DTSTAMP:20250316T190358Z
SEQUENCE:0
TRANSP:OPAQUE
SUMMARY:1. Mannschaft, Hockeytraining
LOCATION:Eishalle Sursee
RECURRENCE-ID:20250428T203000Z
UID:0002428d-0000-0000-0000-000000000000
END:VEVENT
BEGIN:VEVENT
CREATED:20250101T195450Z
LAST-MODIFIED:20250101T195450Z
DTSTART:20250429T164500Z
DTEND:20250429T194500Z
DTSTAMP:20250101T195450Z
SEQUENCE:0
TRANSP:OPAQUE
SUMMARY:Novizen, Hockey-Training
LOCATION:Hochdorf
RECURRENCE-ID:20250429T184500Z
UID:000240a0-0000-0000-0000-000000000000
END:VEVENT
BEGIN:VEVENT
CREATED:20250101T195411Z
LAST-MODIFIED:20250101T195412Z
DTSTART:20250430T163000Z
DTEND:20250430T193000Z
DTSTAMP:20250101T195411Z
SEQUENCE:0
TRANSP:OPAQUE
SUMMARY:Mini, Hockey-Training
LOCATION:Hartplatz Oberrüti
RECURRENCE-ID:20250430T183000Z
UID:00024078-0000-0000-0000-000000000000
END:VEVENT
BEGIN:VEVENT
CREATED:20250316T190344Z
LAST-MODIFIED:20250316T190344Z
DTSTART:20250430T180000Z
DTEND:20250430T210000Z
DTSTAMP:20250316T190344Z
SEQUENCE:0
TRANSP:OPAQUE
SUMMARY:1. Mannschaft, Hockeytraining
LOCATION:Iceline Hochdorf
RECURRENCE-ID:20250430T200000Z
UID:00024281-0000-0000-0000-000000000000
END:VEVENT
BEGIN:VEVENT
CREATED:20250101T195741Z
LAST-MODIFIED:20250101T195741Z
DTSTART:20250430T191500Z
DTEND:20250430T221500Z
DTSTAMP:20250101T195741Z
SEQUENCE:0
TRANSP:OPAQUE
SUMMARY:Senioren, Hockey-Training
LOCATION:Hochdorf
RECURRENCE-ID:20250430T211500Z
UID:0002413e-0000-0000-0000-000000000000
END:VEVENT
END:VCALENDAR



